BEGIN:VCALENDAR
VERSION:2.0
METHOD:PUBLISH
PRODID:-//Accessible Web Design//My Calendar//http://www.joedolson.com//v//EN';
BEGIN:VEVENT
UID:332-277
LOCATION:
SUMMARY:Vollprobe
DTSTAMP:20230428
ORGANIZER;CN=mknkp:MAILTO:birgit.juen@gmx.at
DTSTART:20230428
DTEND:20230429
CATEGORIES:Proben
URL;VALUE=URI:
DESCRIPTION;ENCODING=QUOTED-PRINTABLE: 
X-FUNAMBOL-ALLDAY: 1
X-MICROSOFT-CDO-ALLDAYEVENT: TRUE

END:VEVENT
END:VCALENDAR