BEGIN:VCALENDAR
VERSION:2.0
METHOD:PUBLISH
PRODID:-//Accessible Web Design//My Calendar//http://www.joedolson.com//v//EN';
BEGIN:VEVENT
UID:23-20
LOCATION:
SUMMARY:Platzkonzert (Maibrunnen)
DTSTAMP:20150904T000000
ORGANIZER;CN=mknkp:MAILTO:birgit.juen@gmx.at
DTSTART:20150904T000000
DTEND:20150905T000000
CATEGORIES:Termine
URL;VALUE=URI:
DESCRIPTION;ENCODING=QUOTED-PRINTABLE: 
END:VEVENT
END:VCALENDAR